BEGIN:VCALENDAR
VERSION:2.0
PRODID:-//Access Institute - ECPv4.9.11//NONSGML v1.0//EN
CALSCALE:GREGORIAN
METHOD:PUBLISH
X-WR-CALNAME:Access Institute
X-ORIGINAL-URL:https://accessinstitute.com.au
X-WR-CALDESC:Events for Access Institute
BEGIN:VTIMEZONE
TZID:Australia/Melbourne
BEGIN:STANDARD
TZOFFSETFROM:+1100
TZOFFSETTO:+1000
TZNAME:AEST
DTSTART:20170401T160000
END:STANDARD
BEGIN:DAYLIGHT
TZOFFSETFROM:+1000
TZOFFSETTO:+1100
TZNAME:AEDT
DTSTART:20170930T160000
END:DAYLIGHT
BEGIN:STANDARD
TZOFFSETFROM:+1100
TZOFFSETTO:+1000
TZNAME:AEST
DTSTART:20180331T160000
END:STANDARD
BEGIN:DAYLIGHT
TZOFFSETFROM:+1000
TZOFFSETTO:+1100
TZNAME:AEDT
DTSTART:20181006T160000
END:DAYLIGHT
BEGIN:STANDARD
TZOFFSETFROM:+1100
TZOFFSETTO:+1000
TZNAME:AEST
DTSTART:20190406T160000
END:STANDARD
BEGIN:DAYLIGHT
TZOFFSETFROM:+1000
TZOFFSETTO:+1100
TZNAME:AEDT
DTSTART:20191005T160000
END:DAYLIGHT
BEGIN:STANDARD
TZOFFSETFROM:+1100
TZOFFSETTO:+1000
TZNAME:AEST
DTSTART:20200404T160000
END:STANDARD
BEGIN:DAYLIGHT
TZOFFSETFROM:+1000
TZOFFSETTO:+1100
TZNAME:AEDT
DTSTART:20201003T160000
END:DAYLIGHT
BEGIN:STANDARD
TZOFFSETFROM:+1100
TZOFFSETTO:+1000
TZNAME:AEST
DTSTART:20210403T160000
END:STANDARD
BEGIN:DAYLIGHT
TZOFFSETFROM:+1000
TZOFFSETTO:+1100
TZNAME:AEDT
DTSTART:20211002T160000
END:DAYLIGHT
BEGIN:STANDARD
TZOFFSETFROM:+1100
TZOFFSETTO:+1000
TZNAME:AEST
DTSTART:20220402T160000
END:STANDARD
BEGIN:DAYLIGHT
TZOFFSETFROM:+1000
TZOFFSETTO:+1100
TZNAME:AEDT
DTSTART:20221001T160000
END:DAYLIGHT
BEGIN:STANDARD
TZOFFSETFROM:+1100
TZOFFSETTO:+1000
TZNAME:AEST
DTSTART:20230401T160000
END:STANDARD
BEGIN:DAYLIGHT
TZOFFSETFROM:+1000
TZOFFSETTO:+1100
TZNAME:AEDT
DTSTART:20230930T160000
END:DAYLIGHT
BEGIN:STANDARD
TZOFFSETFROM:+1100
TZOFFSETTO:+1000
TZNAME:AEST
DTSTART:20240406T160000
END:STANDARD
BEGIN:DAYLIGHT
TZOFFSETFROM:+1000
TZOFFSETTO:+1100
TZNAME:AEDT
DTSTART:20241005T160000
END:DAYLIGHT
BEGIN:STANDARD
TZOFFSETFROM:+1100
TZOFFSETTO:+1000
TZNAME:AEST
DTSTART:20250405T160000
END:STANDARD
BEGIN:DAYLIGHT
TZOFFSETFROM:+1000
TZOFFSETTO:+1100
TZNAME:AEDT
DTSTART:20251004T160000
END:DAYLIGHT
END:VTIMEZONE
BEGIN:VEVENT
DTSTART;TZID=Australia/Melbourne:20170611T080000
DTEND;TZID=Australia/Melbourne:20250611T170000
DTSTAMP:20210223T024006
CREATED:20170902T013528Z
LAST-MODIFIED:20210210T225626Z
UID:5620-1497168000-1749661200@accessinstitute.com.au
SUMMARY:Accredited Specialist Disability Accommodation (SDA) Assessor Course – 4.5 hours
DESCRIPTION:Video/teleconference delivery.\nThis course is for professionals who wish to undertake Specialist Disability Accommodation Design Standard (SDA) Assessments\, to confirm that Designs or Final-as-built structures\, comply with the SDA Design Standard. It is also beneficial for people wishing to gain a better understanding of the SDA Design Standard\, regardless of their intention to become an assessor. \nThe National Disability Insurance Scheme (NDIS) funds accommodation options for eligible people living with a disability\, through the SDA program. SDA incorporates 4 design categories that must be met for SDA to be enrolled with NDIS. For enrolment to occur\, dwellings must be assessed for compliance by an Accredited SDA Assessor. \nAnyone can attend the course and undertake the online exam\, however only Specified Professionals that meet relevant prerequisites can become Accredited SDA Assessors. \nThe Accredited SDA Assessor Course Information Handbook\, on this website\, details the specified professional prerequisites for each of the following professions\, that have been determined by NDIS as eligible to become Accredited SDA Assessors. These are Architects\, Building Surveyors\, Access Consultants and Occupational Therapists. \nCourse Fee: $650.00 (plus GST) per person includes all course materials. \nLocations and Dates:\n\nVideo/teleconference\, 16 March 2021\, 12.30pm – 5.00pm\, Melbourne Time\nVideo/teleconference\,  27 April 2021\, 12.30pm – 5.00pm\, Melbourne Time\n\n
URL:https://accessinstitute.com.au/event/accredited-specialist-disability-accommodation-sda-assessor-course-1-day/
CATEGORIES:Featured,Short Courses
END:VEVENT
END:VCALENDAR