BEGIN:VCALENDAR
VERSION:2.0
PRODID:-//Access Institute - ECPv4.9.11//NONSGML v1.0//EN
CALSCALE:GREGORIAN
METHOD:PUBLISH
X-WR-CALNAME:Access Institute
X-ORIGINAL-URL:https://accessinstitute.com.au
X-WR-CALDESC:Events for Access Institute
BEGIN:VTIMEZONE
TZID:Australia/Melbourne
BEGIN:STANDARD
TZOFFSETFROM:+1100
TZOFFSETTO:+1000
TZNAME:AEST
DTSTART:20170401T160000
END:STANDARD
BEGIN:DAYLIGHT
TZOFFSETFROM:+1000
TZOFFSETTO:+1100
TZNAME:AEDT
DTSTART:20170930T160000
END:DAYLIGHT
BEGIN:STANDARD
TZOFFSETFROM:+1100
TZOFFSETTO:+1000
TZNAME:AEST
DTSTART:20180331T160000
END:STANDARD
BEGIN:DAYLIGHT
TZOFFSETFROM:+1000
TZOFFSETTO:+1100
TZNAME:AEDT
DTSTART:20181006T160000
END:DAYLIGHT
BEGIN:STANDARD
TZOFFSETFROM:+1100
TZOFFSETTO:+1000
TZNAME:AEST
DTSTART:20190406T160000
END:STANDARD
BEGIN:DAYLIGHT
TZOFFSETFROM:+1000
TZOFFSETTO:+1100
TZNAME:AEDT
DTSTART:20191005T160000
END:DAYLIGHT
BEGIN:STANDARD
TZOFFSETFROM:+1100
TZOFFSETTO:+1000
TZNAME:AEST
DTSTART:20200404T160000
END:STANDARD
BEGIN:DAYLIGHT
TZOFFSETFROM:+1000
TZOFFSETTO:+1100
TZNAME:AEDT
DTSTART:20201003T160000
END:DAYLIGHT
BEGIN:STANDARD
TZOFFSETFROM:+1100
TZOFFSETTO:+1000
TZNAME:AEST
DTSTART:20210403T160000
END:STANDARD
BEGIN:DAYLIGHT
TZOFFSETFROM:+1000
TZOFFSETTO:+1100
TZNAME:AEDT
DTSTART:20211002T160000
END:DAYLIGHT
BEGIN:STANDARD
TZOFFSETFROM:+1100
TZOFFSETTO:+1000
TZNAME:AEST
DTSTART:20220402T160000
END:STANDARD
BEGIN:DAYLIGHT
TZOFFSETFROM:+1000
TZOFFSETTO:+1100
TZNAME:AEDT
DTSTART:20221001T160000
END:DAYLIGHT
BEGIN:STANDARD
TZOFFSETFROM:+1100
TZOFFSETTO:+1000
TZNAME:AEST
DTSTART:20230401T160000
END:STANDARD
BEGIN:DAYLIGHT
TZOFFSETFROM:+1000
TZOFFSETTO:+1100
TZNAME:AEDT
DTSTART:20230930T160000
END:DAYLIGHT
BEGIN:STANDARD
TZOFFSETFROM:+1100
TZOFFSETTO:+1000
TZNAME:AEST
DTSTART:20240406T160000
END:STANDARD
BEGIN:DAYLIGHT
TZOFFSETFROM:+1000
TZOFFSETTO:+1100
TZNAME:AEDT
DTSTART:20241005T160000
END:DAYLIGHT
BEGIN:STANDARD
TZOFFSETFROM:+1100
TZOFFSETTO:+1000
TZNAME:AEST
DTSTART:20250405T160000
END:STANDARD
BEGIN:DAYLIGHT
TZOFFSETFROM:+1000
TZOFFSETTO:+1100
TZNAME:AEDT
DTSTART:20251004T160000
END:DAYLIGHT
END:VTIMEZONE
BEGIN:VEVENT
DTSTART;TZID=Australia/Melbourne:20170610T090000
DTEND;TZID=Australia/Melbourne:20250610T120000
DTSTAMP:20210223T023917
CREATED:20170901T071234Z
LAST-MODIFIED:20210209T075726Z
UID:462-1497085200-1749556800@accessinstitute.com.au
SUMMARY:Livable Housing Australia - Design Guideline Assessor Course - 2.5 hours
DESCRIPTION:Video/teleconference delivery.\nThis course is for professionals who wish to undertake Livable Housing Australia (LHA) Design Guideline Assessments\, to confirm that designs or as – built structures\, comply with the LHA Design Guidelines. \nMany housing developments are required to comply with the LHA Design Guidelines\, and only registered LHA Assessors can confirm compliance and issue the LHA Quality Mark. \nAnyone can attend the course\, however only specified professionals that meet relevant prerequisites can undertake the online\, open book exam and become Registered LHA Design Guideline Assessors. \nThe LHA Design Guidelines provide the opportunity for many designers\, developers and accommodation providers to expand their markets by building houses and apartments that can offer long term homes for the whole community\, regardless of age\, ability or changing life circumstances. \nThe LHA Guidelines are called up by a variety of governments and organisations that have recognised the benefits of this inclusive approach to housing. \nThe demand for LHA Certification is expanding at a rapid rate and the need for LHA Design Guideline Assessors is in high demand. \nLHA strongly encourages uptake of the guidelines in all new housing developments and upgrades across Australia and provides training through the Access Institute for people interested in becoming LHA Registered Assessors. Course Fee: $380.00 (plus GST) per person. \nLocations and Dates:\n\nVideo / Teleconference\, 9 March 2021\, 11.00am – 1.30pm\, Melbourne Time\nVideo / Teleconference\, 15 April 2021\, 11.00am – 1.30pm – Melbourne Time\n\n
URL:https://accessinstitute.com.au/event/livable-housing-australia-design-guideline-assessor-course/2017-06-10/
CATEGORIES:Courses,Featured,Short Courses
END:VEVENT
END:VCALENDAR