BEGIN:VCALENDAR
VERSION:2.0
PRODID:-//Access Institute - ECPv4.9.11//NONSGML v1.0//EN
CALSCALE:GREGORIAN
METHOD:PUBLISH
X-WR-CALNAME:Access Institute
X-ORIGINAL-URL:https://accessinstitute.com.au
X-WR-CALDESC:Events for Access Institute
BEGIN:VTIMEZONE
TZID:Australia/Melbourne
BEGIN:STANDARD
TZOFFSETFROM:+1100
TZOFFSETTO:+1000
TZNAME:AEST
DTSTART:20170401T160000
END:STANDARD
BEGIN:DAYLIGHT
TZOFFSETFROM:+1000
TZOFFSETTO:+1100
TZNAME:AEDT
DTSTART:20170930T160000
END:DAYLIGHT
BEGIN:STANDARD
TZOFFSETFROM:+1100
TZOFFSETTO:+1000
TZNAME:AEST
DTSTART:20180331T160000
END:STANDARD
BEGIN:DAYLIGHT
TZOFFSETFROM:+1000
TZOFFSETTO:+1100
TZNAME:AEDT
DTSTART:20181006T160000
END:DAYLIGHT
BEGIN:STANDARD
TZOFFSETFROM:+1100
TZOFFSETTO:+1000
TZNAME:AEST
DTSTART:20190406T160000
END:STANDARD
BEGIN:DAYLIGHT
TZOFFSETFROM:+1000
TZOFFSETTO:+1100
TZNAME:AEDT
DTSTART:20191005T160000
END:DAYLIGHT
BEGIN:STANDARD
TZOFFSETFROM:+1100
TZOFFSETTO:+1000
TZNAME:AEST
DTSTART:20200404T160000
END:STANDARD
BEGIN:DAYLIGHT
TZOFFSETFROM:+1000
TZOFFSETTO:+1100
TZNAME:AEDT
DTSTART:20201003T160000
END:DAYLIGHT
BEGIN:STANDARD
TZOFFSETFROM:+1100
TZOFFSETTO:+1000
TZNAME:AEST
DTSTART:20210403T160000
END:STANDARD
BEGIN:DAYLIGHT
TZOFFSETFROM:+1000
TZOFFSETTO:+1100
TZNAME:AEDT
DTSTART:20211002T160000
END:DAYLIGHT
BEGIN:STANDARD
TZOFFSETFROM:+1100
TZOFFSETTO:+1000
TZNAME:AEST
DTSTART:20220402T160000
END:STANDARD
BEGIN:DAYLIGHT
TZOFFSETFROM:+1000
TZOFFSETTO:+1100
TZNAME:AEDT
DTSTART:20221001T160000
END:DAYLIGHT
BEGIN:STANDARD
TZOFFSETFROM:+1100
TZOFFSETTO:+1000
TZNAME:AEST
DTSTART:20230401T160000
END:STANDARD
BEGIN:DAYLIGHT
TZOFFSETFROM:+1000
TZOFFSETTO:+1100
TZNAME:AEDT
DTSTART:20230930T160000
END:DAYLIGHT
BEGIN:STANDARD
TZOFFSETFROM:+1100
TZOFFSETTO:+1000
TZNAME:AEST
DTSTART:20240406T160000
END:STANDARD
BEGIN:DAYLIGHT
TZOFFSETFROM:+1000
TZOFFSETTO:+1100
TZNAME:AEDT
DTSTART:20241005T160000
END:DAYLIGHT
BEGIN:STANDARD
TZOFFSETFROM:+1100
TZOFFSETTO:+1000
TZNAME:AEST
DTSTART:20250405T160000
END:STANDARD
BEGIN:DAYLIGHT
TZOFFSETFROM:+1000
TZOFFSETTO:+1100
TZNAME:AEDT
DTSTART:20251004T160000
END:DAYLIGHT
END:VTIMEZONE
BEGIN:VEVENT
DTSTART;TZID=Australia/Melbourne:20170612T080000
DTEND;TZID=Australia/Melbourne:20250612T170000
DTSTAMP:20210223T035333
CREATED:20200904T040255Z
LAST-MODIFIED:20210209T080026Z
UID:8143-1497254400-1749747600@accessinstitute.com.au
SUMMARY:Understanding and Applying the Specialist Disability Accommodation (SDA) Design Standard - 2.5 hours
DESCRIPTION:Video/teleconference delivery.\nThis course is targeted at professionals who are working with the SDA Design Standard and who wish to gain a better understanding of what it incorporates and how it must be applied. Builders\, Designers and SDA Developers as well as professionals who are providing advice to stakeholders regarding the application of the SDA Design Standard. Participants will all benefit greatly from this short course and gain important detail regarding the SDA Design Standard. This will also assist in understanding what Accredited SDA Assessors will be looking for in undertaking assessments of designs and as-built dwellings to ensure they meet compliance with the SDA Design Standard. \nThe session provides the basis for professionals who do not  wish to become\, or are not eligible to\, become Accredited SDA Assessors\, but will be working with the SDA Design Standard to design and develop SDA for a range of clients. \nThe course will be delivered live on line via Zoom and participants can ask questions and participate in discussion. Participants are also provided with a copy of the SDA Design Standard\, access to a detailed PowerPoint (PDF) presentation as well as training notes post course. A Certificate of Participation is provided to all participants for CPD purposes. \nCourse Fee: $300.00 (plus GST) per person includes all course materials. \nLocations and Dates:\n\nVideo/teleconference\, 9 March 2021\, 2.30pm – 5.00pm\, Melbourne Time\nVideo/teleconference\, 15 April 2021\, 2.30pm – 5.00pm\, Melbourne Time\n\n
URL:https://accessinstitute.com.au/event/understanding-and-applying-the-specialist-disability-accommodation-sda-design-standard-2-5-hours/
CATEGORIES:Courses,Featured,Short Courses
END:VEVENT
END:VCALENDAR